BEGIN:VCALENDAR
VERSION:2.0
PRODID:-//AliceNine.net - ECPv6.15.11//NONSGML v1.0//EN
CALSCALE:GREGORIAN
METHOD:PUBLISH
X-ORIGINAL-URL:https://alicenine.net
X-WR-CALDESC:Events for AliceNine.net
REFRESH-INTERVAL;VALUE=DURATION:PT1H
X-Robots-Tag:noindex
X-PUBLISHED-TTL:PT1H
BEGIN:VTIMEZONE
TZID:America/Los_Angeles
BEGIN:DAYLIGHT
TZOFFSETFROM:-0800
TZOFFSETTO:-0700
TZNAME:PDT
DTSTART:20170312T100000
END:DAYLIGHT
BEGIN:STANDARD
TZOFFSETFROM:-0700
TZOFFSETTO:-0800
TZNAME:PST
DTSTART:20171105T090000
END:STANDARD
BEGIN:DAYLIGHT
TZOFFSETFROM:-0800
TZOFFSETTO:-0700
TZNAME:PDT
DTSTART:20180311T100000
END:DAYLIGHT
BEGIN:STANDARD
TZOFFSETFROM:-0700
TZOFFSETTO:-0800
TZNAME:PST
DTSTART:20181104T090000
END:STANDARD
BEGIN:DAYLIGHT
TZOFFSETFROM:-0800
TZOFFSETTO:-0700
TZNAME:PDT
DTSTART:20190310T100000
END:DAYLIGHT
BEGIN:STANDARD
TZOFFSETFROM:-0700
TZOFFSETTO:-0800
TZNAME:PST
DTSTART:20191103T090000
END:STANDARD
END:VTIMEZONE
BEGIN:VEVENT
DTSTART;TZID=America/Los_Angeles:20181205T080000
DTEND;TZID=America/Los_Angeles:20181206T150000
DTSTAMP:20260425T122828
CREATED:20180404T153324Z
LAST-MODIFIED:20181111T012838Z
UID:9508-1543996800-1544108400@alicenine.net
SUMMARY:Grammar Boot Camp
DESCRIPTION:Teach grammar for the sake of reading and writing.\nRegistration is OPEN. \nIt is easy to enroll :\n1)  Follow directions on the Registration Form\n2)  Our PD facilitator will complete your registration and send a confirmation email to you. \n View / Print:  Brochure & Registration Form. \nThree options are available —\n1. Attend the two-day workshop and join Alice Nine Academy for Grammar Boot Camp blended lessons\nDay 1: Rituals\, Anchor Lessons\, and Anchor Charts for front-loading\nDay 2: Tactical Sentence Instruction for application\nFollowing the workshop you will have a one-year membership with full access to 40 front-loading grammar lessons\n[This option can be purchased using the Registration Form.] \n2. Attend the two-day workshop only (without joining Alice Nine Academy)\n[This option can be purchased using the Registration Form or by visiting our online Store HERE.] \n3. Join Alice Nine Academy for Grammar Boot Camp blended lessons (without the workshop)\n[This option can be purchased using the Registration Form or by purchasing “Site Membership” to Alice Nine Academy HERE.] \nBe sure to visit Grammar Boot Camp and view sample lessons at ALICE NINE ACADEMY — your place for blended classroom instruction\nAs one teacher put it\, “It’s like having Alice Nine in your pocket!”\nAs Alice Nine puts it\, “Through my Academy\, I can team teach with you in your classroom any or every day of the year.”
URL:https://alicenine.net/event/alicenine-grammar-launch-2018-10-03/
LOCATION:Radison Hotel El Paso Airport\, 1770 Airway Blvd\, El Paso\, TX\, 79925\, United States
CATEGORIES:Onsite / Online
ATTACH;FMTTYPE=image/jpeg:https://alicenine.net/wp-content/uploads/2018/04/IMG_6707-1.jpg
GEO:31.7937734;-106.3945659
X-APPLE-STRUCTURED-LOCATION;VALUE=URI;X-ADDRESS=Radison Hotel El Paso Airport 1770 Airway Blvd El Paso TX 79925 United States;X-APPLE-RADIUS=500;X-TITLE=1770 Airway Blvd:geo:-106.3945659,31.7937734
END:VEVENT
END:VCALENDAR