BEGIN:VCALENDAR
VERSION:2.0
PRODID:-//AliceNine.net - ECPv6.15.11//NONSGML v1.0//EN
CALSCALE:GREGORIAN
METHOD:PUBLISH
X-ORIGINAL-URL:https://alicenine.net
X-WR-CALDESC:Events for AliceNine.net
REFRESH-INTERVAL;VALUE=DURATION:PT1H
X-Robots-Tag:noindex
X-PUBLISHED-TTL:PT1H
BEGIN:VTIMEZONE
TZID:America/Denver
BEGIN:DAYLIGHT
TZOFFSETFROM:-0700
TZOFFSETTO:-0600
TZNAME:MDT
DTSTART:20180311T090000
END:DAYLIGHT
BEGIN:STANDARD
TZOFFSETFROM:-0600
TZOFFSETTO:-0700
TZNAME:MST
DTSTART:20181104T080000
END:STANDARD
BEGIN:DAYLIGHT
TZOFFSETFROM:-0700
TZOFFSETTO:-0600
TZNAME:MDT
DTSTART:20190310T090000
END:DAYLIGHT
BEGIN:STANDARD
TZOFFSETFROM:-0600
TZOFFSETTO:-0700
TZNAME:MST
DTSTART:20191103T080000
END:STANDARD
BEGIN:DAYLIGHT
TZOFFSETFROM:-0700
TZOFFSETTO:-0600
TZNAME:MDT
DTSTART:20200308T090000
END:DAYLIGHT
BEGIN:STANDARD
TZOFFSETFROM:-0600
TZOFFSETTO:-0700
TZNAME:MST
DTSTART:20201101T080000
END:STANDARD
END:VTIMEZONE
BEGIN:VEVENT
DTSTART;TZID=America/Denver:20190521T080000
DTEND;TZID=America/Denver:20190522T150000
DTSTAMP:20260425T042803
CREATED:20190313T234944Z
LAST-MODIFIED:20190323T035336Z
UID:10453-1558425600-1558537200@alicenine.net
SUMMARY:Grammar Boot Camp
DESCRIPTION:Teach grammar for the sake of reading and writing.\nRegistration is OPEN.\nEl Paso\, Texas\n \nWorkshop summary \nExperience two days of easy-to-manage\, student-engaging Anchor Lessons\, Anchor Charting\, Learning Rituals & Routines and an introduction to Alice Nine’s Interactive Grammar Notebook. \nAnchor Lessons and Anchor Charts build concepts with clear\, concise\, easy explanations and definitions. Mentor texts model with accurate examples. The Grammar Notebook becomes a student’s resource book. Full-color graphics and explicit notebook building is part of the lessons in Alice Nine’s online Grammar Boot Camps. Based on scientific research & best practices these grammar lessons align with the new ELAR TEKS and the ELPS and support gains in STAAR Writing. \nAlignment with NEW ELAR TEKS \nStrand 6 — The student learns grammar basics during the creation of an interactive grammar notebook. The student uses acquired knowledge to support appropriate use of conventions to edit\, analyze\, and revise a mentor sentence. The student writes legibly.\nStrand 5 – The student uses critical inquiry to notice and analyze the authors’ choices and how they influence and communicate meaning in a mentor sentences. The student analyzes the authors’ craft and applies it purposefully in order to develop his or her own sentences.\n \nWorkshop Agenda \nGrammar Boot Camp is a two-day workshop. View / Print the Agenda.\nTwo dates are offered:  May 21-22  or  August 14-15\, 2019\n \nIt’s easy to enroll \n1)  Follow directions on the Registration Form\n2)  Our PD facilitator will complete your registration and send a confirmation email to you.\n View/Print:  Brochure / Registration Form. \nChoose one of three enrollment options — \nOption 1. Attend the two-day workshop and join Alice Nine Academy for Grammar Boot Camp blended lessons\nDay 1: Rituals\, Anchor Lessons\, and Anchor Charts for front-loading\nDay 2: Tactical Sentence Instruction for application\nFollowing the workshop you will have a one-year membership with full access to 40 front-loading grammar lessons\nYou save $120 with this option over purchasing the onsite (Option 2) and online (Option 1) separately.\n[This option can be purchased using the Registration Form or through our Online Store HERE.] \nOption 2. Attend the two-day workshop only (without joining Alice Nine Academy)\n[This option can be purchased using the Registration Form or through our Online Store HERE.] \nOption 3. Join Alice Nine Academy for Grammar Boot Camp blended lessons (without the workshop)\n[This option can be purchased using the Registration Form or by purchasing “Site Membership” to Alice Nine Academy HERE.] \n______\nVisit Grammar Boot Camp sample lessons at ALICE NINE ACADEMY — your place for blended classroom instruction.\n–As one teacher put it\, “It’s like having Alice Nine in your pocket!”\n\n–As Alice Nine puts it\, “Through my Academy\, I can team teach with you in your classroom any or every day of the year.”\nBe sure to check out the Scope & Sequence for each boot camp.
URL:https://alicenine.net/event/grammar-boot-camp/
LOCATION:Radison Hotel El Paso Airport\, 1770 Airway Blvd\, El Paso\, TX\, 79925\, United States
CATEGORIES:Onsite / Online
ATTACH;FMTTYPE=image/png:https://alicenine.net/wp-content/uploads/2019/03/GBC-graphic-e1552520195551.png
GEO:31.7937734;-106.3945659
X-APPLE-STRUCTURED-LOCATION;VALUE=URI;X-ADDRESS=Radison Hotel El Paso Airport 1770 Airway Blvd El Paso TX 79925 United States;X-APPLE-RADIUS=500;X-TITLE=1770 Airway Blvd:geo:-106.3945659,31.7937734
END:VEVENT
END:VCALENDAR