BEGIN:VCALENDAR
VERSION:2.0
PRODID:-//AliceNine.net - ECPv6.15.11//NONSGML v1.0//EN
CALSCALE:GREGORIAN
METHOD:PUBLISH
X-WR-CALNAME:AliceNine.net
X-ORIGINAL-URL:https://alicenine.net
X-WR-CALDESC:Events for AliceNine.net
REFRESH-INTERVAL;VALUE=DURATION:PT1H
X-Robots-Tag:noindex
X-PUBLISHED-TTL:PT1H
BEGIN:VTIMEZONE
TZID:America/Denver
BEGIN:DAYLIGHT
TZOFFSETFROM:-0700
TZOFFSETTO:-0600
TZNAME:MDT
DTSTART:20180311T090000
END:DAYLIGHT
BEGIN:STANDARD
TZOFFSETFROM:-0600
TZOFFSETTO:-0700
TZNAME:MST
DTSTART:20181104T080000
END:STANDARD
BEGIN:DAYLIGHT
TZOFFSETFROM:-0700
TZOFFSETTO:-0600
TZNAME:MDT
DTSTART:20190310T090000
END:DAYLIGHT
BEGIN:STANDARD
TZOFFSETFROM:-0600
TZOFFSETTO:-0700
TZNAME:MST
DTSTART:20191103T080000
END:STANDARD
BEGIN:DAYLIGHT
TZOFFSETFROM:-0700
TZOFFSETTO:-0600
TZNAME:MDT
DTSTART:20200308T090000
END:DAYLIGHT
BEGIN:STANDARD
TZOFFSETFROM:-0600
TZOFFSETTO:-0700
TZNAME:MST
DTSTART:20201101T080000
END:STANDARD
END:VTIMEZONE
BEGIN:VTIMEZONE
TZID:America/Los_Angeles
BEGIN:DAYLIGHT
TZOFFSETFROM:-0800
TZOFFSETTO:-0700
TZNAME:PDT
DTSTART:20180311T100000
END:DAYLIGHT
BEGIN:STANDARD
TZOFFSETFROM:-0700
TZOFFSETTO:-0800
TZNAME:PST
DTSTART:20181104T090000
END:STANDARD
BEGIN:DAYLIGHT
TZOFFSETFROM:-0800
TZOFFSETTO:-0700
TZNAME:PDT
DTSTART:20190310T100000
END:DAYLIGHT
BEGIN:STANDARD
TZOFFSETFROM:-0700
TZOFFSETTO:-0800
TZNAME:PST
DTSTART:20191103T090000
END:STANDARD
BEGIN:DAYLIGHT
TZOFFSETFROM:-0800
TZOFFSETTO:-0700
TZNAME:PDT
DTSTART:20200308T100000
END:DAYLIGHT
BEGIN:STANDARD
TZOFFSETFROM:-0700
TZOFFSETTO:-0800
TZNAME:PST
DTSTART:20201101T090000
END:STANDARD
END:VTIMEZONE
BEGIN:VEVENT
DTSTART;TZID=America/Denver:20190926T080000
DTEND;TZID=America/Denver:20190926T150000
DTSTAMP:20260425T183921
CREATED:20190315T223512Z
LAST-MODIFIED:20190830T024305Z
UID:10583-1569484800-1569510000@alicenine.net
SUMMARY:JCSpell Word Study
DESCRIPTION:Integrating phonemic awareness\, handwriting\, phonics\, spelling\, and vocabulary \nRegistration is OPEN.\nEl Paso\, Texas \nWorkshop Summary \nAlice Nine will show you how to integrate the following during Word Study lessons\, without worksheets:\n \nphonemic awareness with sounds and syllables — \nsystematic\, explicit phonics —\nhandwriting instruction — \nspelling practice —\nword grammar — \nand how-to sound out words for both reading and writing \nAlignment with new ELAR TEKS\n \nDaily Word Study with content (phonograms and words) and routines of JCSpell provide ongoing opportunities to address\nStrand 1– The student develops word structure knowledge through phonological awareness\, print concepts\, phonics\, and morphology to communicate\, decode\, and spell (encode) during the daily JCSpell lesson routines\, i\,e.\, Think to Spell\, Word Talk. The student uses newly acquired vocabulary expressively through oral and written sentences during Word Talk.\nStrand 6 — The student composes legible texts during I-Work. The student composes sentences and uses appropriate conventions during I-Work. \nWho should attend? \nAll teachers\, especially elementary since phonics is now part of the new ELAR TEKS\, for grades 4-5 as well as K-3.  This is especially great for ELLs. Alice Nine recommends it for core instruction; however\, it can be used Tier 2 intervention\, especially at secondary level. \nWorkshop Agenda \nView/Print JCSpell Word Study  Agenda.\nTwo dates are offered for the LIVE Workshop:  Aug. 29 or  Sept. 26\, 2019 \nIt’s easy to enroll\n1) Follow directions on Registration Form. Please note: Payment can be made with credit card at our Online Store.\n2) Our PD facilitator will complete your enrollment and send you a confirmation email.\nView / Print: Brochure / Registration Form\n \nBLENDED Professional Development involves\n \n✓  Face-to-Face Session:  August 26th or September 26th\, with Alice Nine\, 6 hour workshop\n✓  Digital (online) Sessions:  Begins upon Registration\, 24 hours of personalized step-by-step training with simulated lessons\, access 24/7 through January 30\, 2020 \n________ \n Enroll in the Online Sessions only:\nListed on our calendar:  Digital PD: JCSpell Word Study\nCan be purchased with credit card in our Online Store. \n________ \nWhat is Johnny Can Spell (JCSpell) #JCSpell ? \nJCSpell is not a curriculum.  JCSpell is not a program.\nJCSpell is an instructional design that offers you a systematic\, explicit approach for integrated ELA instruction. \nNOTE: If you are currently enrolled in the digital course (JCSpell Word Study) and want to attend this one-day workshop at the Radisson on August 26\, contact Alice Nine. \nAlice Nine\, creator of Johnny Can Spell\, Is the sole provider of Johnny Can Spell workshops.
URL:https://alicenine.net/event/jcspell-word-study-2/
LOCATION:Radison Hotel El Paso Airport\, 1770 Airway Blvd\, El Paso\, TX\, 79925\, United States
CATEGORIES:Onsite / Online
ATTACH;FMTTYPE=image/jpeg:https://alicenine.net/wp-content/uploads/2018/03/Notebooks-e1552687624885.jpg
GEO:31.7937734;-106.3945659
X-APPLE-STRUCTURED-LOCATION;VALUE=URI;X-ADDRESS=Radison Hotel El Paso Airport 1770 Airway Blvd El Paso TX 79925 United States;X-APPLE-RADIUS=500;X-TITLE=1770 Airway Blvd:geo:-106.3945659,31.7937734
END:VEVENT
BEGIN:VEVENT
DTSTART;VALUE=DATE:20191002
DTEND;VALUE=DATE:20191004
DTSTAMP:20260425T183921
CREATED:20190912T144950Z
LAST-MODIFIED:20190912T152239Z
UID:11621-1569974400-1570147199@alicenine.net
SUMMARY:James Butler Workshop
DESCRIPTION:Grammar Boot Camp\n\nParticipation limited to campus staff.\nEl Paso\, Texas
URL:https://alicenine.net/event/james-butler-gbc/
CATEGORIES:Onsite / Online
ATTACH;FMTTYPE=image/jpeg:https://alicenine.net/wp-content/uploads/2019/09/James-Butler-Campus.jpg
END:VEVENT
BEGIN:VEVENT
DTSTART;TZID=America/Los_Angeles:20191015T080000
DTEND;TZID=America/Los_Angeles:20191015T150000
DTSTAMP:20260425T183921
CREATED:20190923T200156Z
LAST-MODIFIED:20190923T200156Z
UID:11696-1571126400-1571151600@alicenine.net
SUMMARY:Writing STAAR Essays
DESCRIPTION:With an eye on STAAR™ — writing mentor essays and developing teaching points with Alice Nine. \nRegistration is OPEN\nEl Paso\, TX. \nWorkshop Summary \nA one-day workshop day\nLearn how to show your students to —\n*Use the prompt to write a clear central idea statement\n*Use Alice Nine’s X-Builder for body\n* Write a conclusion that completes the essay\nPlan STAAR essay practice in bite-sized pieces\nPlus you will have access to Writing STAAR™ Essays digital (online) modules \nWorkshop Agenda \nWriting STAAR Essays is a one-day workshop. View / Print the Agenda.\nPLUS extensive online digital modules\, available 24/7 through March 15\, 2020. \nIt’s easy to enroll \n1) Follow directions on Registration Form.  Please note: Payment can be made with credit card at our Online Store..\n2) Our PD facilitator will process your enrollment and send you a confirmation email.\nView / Print: Brochure / Registration Form. \nWhat is a blended workshop? \n\nLIVE workshop on October 15\, 2019\, with Alice Nine focuses on writing mentor essays and developing teaching points in response to STAAR-like prompts.\nDigital (online) Modules available 24/7 through March 15\, 2020 include–\nDeconstructing the Prompt\nDeciphering the Rubrics\nDeveloping the Essay\nFrom Prompt to Essay\, modeled step-by-step with teaching points\nResources\n\n________ \n Enroll in the Online Modules only\nOur online modules are available for individual teacher enrollment as Digital PD.. Check our Calendar. \n 
URL:https://alicenine.net/event/writing-staar-essays-11/
CATEGORIES:Onsite / Online
ATTACH;FMTTYPE=image/jpeg:https://alicenine.net/wp-content/uploads/2019/03/STAARessays-e1553557106291.jpg
END:VEVENT
BEGIN:VEVENT
DTSTART;TZID=America/Denver:20191016T080000
DTEND;TZID=America/Denver:20191016T150000
DTSTAMP:20260425T183921
CREATED:20190316T160553Z
LAST-MODIFIED:20190923T194739Z
UID:10591-1571212800-1571238000@alicenine.net
SUMMARY:Snippety Grammar 4 Editing STAARS
DESCRIPTION:Grammar PD with an eye on STAAR™.\nDid you know?  50% of the 4th grade STAAR Writing score is based on editing. \nRegistration has been Re-Opened\nEl Paso\, Texas \nWorkshop Summary \nA one-day workshop day applying grammar knowledge and practicing editing skills with an eye on demands of STAAR™.  Digital (online) resources are included. \nWhy is it called Snippety Grammar? Because it is grammar in snippets — \nMini-lessons and anchor charts…\nBite-sized daily practices that develop editing skills…\nSimple\, no nonsense\, can-use-tomorrow routines…\nEditing strategies (tips and tricks) for proof-reading and test-taking… \nAlignment with new ELAR TEKS\n \nStrand 6 — The student uses acquired knowledge to support appropriate use of conventions to analyze and edit text. The student learns tips and tricks of editors to proofread and determine correct use of conventions. The student uses proofreader symbols.\nStrand 1 — The student demonstrates and applies spelling knowledge.\nStrand 5 – The student uses critical inquiry to notice and analyze the authors’ choices and how they influence and communicate meaning and flow of text. \nWorkshop Agenda \nView/Print the Agenda for the day.\n \nIt’s easy to enroll\nOnly a few places are still available.\n1) Follow directions on Registration Form. Please note: Payment can be made with credit card at our Online Store.\n2) Our PD facilitator will complete your enrollment and send you a confirmation email.\nView / Print: Brochure / Registration Form
URL:https://alicenine.net/event/snippety-grammar-4-editing-staars-7/
LOCATION:Radison Hotel El Paso Airport\, 1770 Airway Blvd\, El Paso\, TX\, 79925\, United States
CATEGORIES:Onsite / Online
ATTACH;FMTTYPE=image/jpeg:https://alicenine.net/wp-content/uploads/2017/11/SnipGramNB-e1509556360727.jpg
GEO:31.7937734;-106.3945659
X-APPLE-STRUCTURED-LOCATION;VALUE=URI;X-ADDRESS=Radison Hotel El Paso Airport 1770 Airway Blvd El Paso TX 79925 United States;X-APPLE-RADIUS=500;X-TITLE=1770 Airway Blvd:geo:-106.3945659,31.7937734
END:VEVENT
BEGIN:VEVENT
DTSTART;TZID=America/Denver:20191017T080000
DTEND;TZID=America/Denver:20191017T150000
DTSTAMP:20260425T183921
CREATED:20190318T182708Z
LAST-MODIFIED:20190923T202042Z
UID:10640-1571299200-1571324400@alicenine.net
SUMMARY:Writing STAAR™ Essays
DESCRIPTION:With an eye on STAAR™ — writing mentor essays and developing teaching points with Alice Nine. \nRegistration for OCT 17 is CLOSED\nWe have scheduled another session for OCT 15.\nEl Paso\, TX. \nWorkshop Summary \nA one-day workshop day\nLearn how to show your students to —\n*Use the prompt to write a clear central idea statement\n*Use Alice Nine’s X-Builder for body\n* Write a conclusion that completes the essay\nPlan STAAR essay practice in bite-sized pieces\nPlus you will have access to Writing STAAR™ Essays digital (online) modules \nWorkshop Agenda \nWriting STAAR Essays is a one-day workshop. View / Print the Agenda.\nPLUS extensive online digital modules\, available 24/7 through March 15\, 2020. \nIt’s easy to enroll\n1) Follow directions on Registration Form.  Please note: Payment can be made with credit card at our Online Store..\n2) Our PD facilitator will process your enrollment and send you a confirmation email.\nView / Print: Brochure / Registration Form. \nWhat is a blended workshop? \n\nLIVE workshop on October 17\, 2019\, with Alice Nine focuses on writing mentor essays and developing teaching points in response to STAAR-like prompts.\nDigital (online) Modules available 24/7 through March 15\, 2020 include–\nDeconstructing the Prompt\nDeciphering the Rubrics\nDeveloping the Essay\nFrom Prompt to Essay\, modeled step-by-step with teaching points\nResources\n\n________ \n Enroll in the Online Modules only\nOur online modules are available for individual teachers as Digital PD and will open for enrollment in August 2019. Check our Calendar or check here for a link to enroll online. \n 
URL:https://alicenine.net/event/writing-staar-essays-10/2019-10-17/
LOCATION:Radison Hotel El Paso Airport\, 1770 Airway Blvd\, El Paso\, TX\, 79925\, United States
CATEGORIES:Onsite / Online
ATTACH;FMTTYPE=image/jpeg:https://alicenine.net/wp-content/uploads/2019/03/STAARessays-e1553557106291.jpg
GEO:31.7937734;-106.3945659
X-APPLE-STRUCTURED-LOCATION;VALUE=URI;X-ADDRESS=Radison Hotel El Paso Airport 1770 Airway Blvd El Paso TX 79925 United States;X-APPLE-RADIUS=500;X-TITLE=1770 Airway Blvd:geo:-106.3945659,31.7937734
END:VEVENT
BEGIN:VEVENT
DTSTART;VALUE=DATE:20191023
DTEND;VALUE=DATE:20191024
DTSTAMP:20260425T183921
CREATED:20190912T145828Z
LAST-MODIFIED:20191102T161305Z
UID:11630-1571788800-1571875199@alicenine.net
SUMMARY:Ernesto Serna Inservice Day
DESCRIPTION:JCSpell Word Study Plus\nParticipation limited to campus staff.\nEl Paso\, Texas
URL:https://alicenine.net/event/serna-inservice-day/
CATEGORIES:Onsite / Online
ATTACH;FMTTYPE=image/jpeg:https://alicenine.net/wp-content/uploads/2019/09/Ernesto-Serna-Campus.jpg
END:VEVENT
BEGIN:VEVENT
DTSTART;VALUE=DATE:20191030
DTEND;VALUE=DATE:20191031
DTSTAMP:20260425T183921
CREATED:20190912T152012Z
LAST-MODIFIED:20190912T152636Z
UID:11634-1572393600-1572479999@alicenine.net
SUMMARY:Horizon Heights Inservice Day
DESCRIPTION:JCSpell Word Study Plus\nParticipation limited to campus staff.\nEl Paso\, Texas
URL:https://alicenine.net/event/horizon-heights-inservice-day/
CATEGORIES:Onsite / Online
ATTACH;FMTTYPE=image/jpeg:https://alicenine.net/wp-content/uploads/2019/09/Horizon-Heights-Campus.jpg
END:VEVENT
BEGIN:VEVENT
DTSTART;TZID=America/Denver:20191211T080000
DTEND;TZID=America/Denver:20191211T150000
DTSTAMP:20260425T183921
CREATED:20191102T143936Z
LAST-MODIFIED:20191102T153312Z
UID:11707-1576051200-1576076400@alicenine.net
SUMMARY:Snippety Grammar 4 Editing STAARs
DESCRIPTION:Grammar PD with an eye on STAAR™.\nDid you know?  50% of the 4th grade STAAR Writing score is based on editing. \nRegistration OPEN\nEl Paso\, Texas \nWorkshop Summary \nA one-day workshop day applying grammar knowledge and practicing editing skills with an eye on demands of STAAR™.  Digital (online) resources are included. \nWhy is it called Snippety Grammar? Because it is grammar in snippets — \nMini-lessons and anchor charts…\nBite-sized daily practices that develop editing skills…\nSimple\, no nonsense\, can-use-tomorrow routines…\nEditing strategies (tips and tricks) for proof-reading and test-taking… \nAlignment with new ELAR TEKS\n \nStrand 6 — The student uses acquired knowledge to support appropriate use of conventions to analyze and edit text. The student learns tips and tricks of editors to proofread and determine correct use of conventions. The student uses proofreader symbols.\nStrand 1 — The student demonstrates and applies spelling knowledge.\nStrand 5 – The student uses critical inquiry to notice and analyze the authors’ choices and how they influence and communicate meaning and flow of text. \nWorkshop Agenda \nView/Print the Agenda for the day.\n \nIt’s easy to enroll\nOnly a few places are still available.\n1) Follow directions on Registration Form. Please note: Payment can be made with credit card at our Online Store.\n2) Our PD facilitator will complete your enrollment and send you a confirmation email.\nView / Print: Brochure / Registration Form
URL:https://alicenine.net/event/snippety-grammar-4-editing-staars-8/
CATEGORIES:Onsite / Online
ATTACH;FMTTYPE=image/jpeg:https://alicenine.net/wp-content/uploads/2017/12/pencils-2482741_1920-STAAR.jpg
END:VEVENT
BEGIN:VEVENT
DTSTART;TZID=America/Los_Angeles:20191212T080000
DTEND;TZID=America/Los_Angeles:20191212T150000
DTSTAMP:20260425T183921
CREATED:20191102T143322Z
LAST-MODIFIED:20191102T145107Z
UID:11710-1576137600-1576162800@alicenine.net
SUMMARY:Writing STAAR™ Essays
DESCRIPTION:With an eye on STAAR™ — writing mentor essays and developing teaching points with Alice Nine. \nRegistration is OPEN\nEl Paso\, TX. \nWorkshop Summary \nA one-day workshop\nLearn how to show your students to —\n* Write a clear central idea statement using the prompt\n* To plan and write the body with Alice Nine’s X-Builder\n* Write a conclusion that completes the essay\nPlan STAAR™ essay practice in bite-sized pieces\nPlus you will have access to Writing STAAR™ Essays digital (online) modules \nWorkshop Agenda \nWriting STAAR™ Essays is a one-day workshop. View / Print the Agenda.\nPLUS extensive online digital modules\, available 24/7 through April 15\, 2020. \nIt’s easy to enroll \n1) Follow directions on Registration Form.  Please note: Payment can be made with credit card at our Online Store..\n2) Our PD facilitator will process your enrollment and send you a confirmation email.\nView / Print: Brochure / Registration Form. \nWhat is a blended workshop? \n\nLIVE workshop on December 12\, 2019\, with Alice Nine focuses on writing mentor essays and developing teaching points in response to STAAR-like prompts.\nDigital (online) Modules available 24/7 through March 15\, 2020 include–\n\nDeconstructing the Prompt–Understanding use of each part\nDeciphering the Rubrics– Understanding the language\nDeveloping the Essay– Close examination of components\nFrom Prompt to Essay–How-to outlined with teaching points\nFrom Prompt to Essay–A modeled lesson\nResources \n________ \n Enroll in the Online Modules only\nOur online modules are available for individual teacher enrollment as Digital PD.. Check our Calendar. \n 
URL:https://alicenine.net/event/writing-staar-essays-12/
CATEGORIES:Onsite / Online
ATTACH;FMTTYPE=image/jpeg:https://alicenine.net/wp-content/uploads/2017/12/pencils-2482741_1920-STAAR.jpg
END:VEVENT
END:VCALENDAR