BEGIN:VCALENDAR
VERSION:2.0
PRODID:-//AliceNine.net - ECPv6.15.11//NONSGML v1.0//EN
CALSCALE:GREGORIAN
METHOD:PUBLISH
X-WR-CALNAME:AliceNine.net
X-ORIGINAL-URL:https://alicenine.net
X-WR-CALDESC:Events for AliceNine.net
REFRESH-INTERVAL;VALUE=DURATION:PT1H
X-Robots-Tag:noindex
X-PUBLISHED-TTL:PT1H
BEGIN:VTIMEZONE
TZID:America/Los_Angeles
BEGIN:DAYLIGHT
TZOFFSETFROM:-0800
TZOFFSETTO:-0700
TZNAME:PDT
DTSTART:20180311T100000
END:DAYLIGHT
BEGIN:STANDARD
TZOFFSETFROM:-0700
TZOFFSETTO:-0800
TZNAME:PST
DTSTART:20181104T090000
END:STANDARD
BEGIN:DAYLIGHT
TZOFFSETFROM:-0800
TZOFFSETTO:-0700
TZNAME:PDT
DTSTART:20190310T100000
END:DAYLIGHT
BEGIN:STANDARD
TZOFFSETFROM:-0700
TZOFFSETTO:-0800
TZNAME:PST
DTSTART:20191103T090000
END:STANDARD
BEGIN:DAYLIGHT
TZOFFSETFROM:-0800
TZOFFSETTO:-0700
TZNAME:PDT
DTSTART:20200308T100000
END:DAYLIGHT
BEGIN:STANDARD
TZOFFSETFROM:-0700
TZOFFSETTO:-0800
TZNAME:PST
DTSTART:20201101T090000
END:STANDARD
END:VTIMEZONE
BEGIN:VEVENT
DTSTART;TZID=America/Los_Angeles:20191212T080000
DTEND;TZID=America/Los_Angeles:20191212T150000
DTSTAMP:20260425T042044
CREATED:20191102T143322Z
LAST-MODIFIED:20191102T145107Z
UID:11710-1576137600-1576162800@alicenine.net
SUMMARY:Writing STAAR™ Essays
DESCRIPTION:With an eye on STAAR™ — writing mentor essays and developing teaching points with Alice Nine. \nRegistration is OPEN\nEl Paso\, TX. \nWorkshop Summary \nA one-day workshop\nLearn how to show your students to —\n* Write a clear central idea statement using the prompt\n* To plan and write the body with Alice Nine’s X-Builder\n* Write a conclusion that completes the essay\nPlan STAAR™ essay practice in bite-sized pieces\nPlus you will have access to Writing STAAR™ Essays digital (online) modules \nWorkshop Agenda \nWriting STAAR™ Essays is a one-day workshop. View / Print the Agenda.\nPLUS extensive online digital modules\, available 24/7 through April 15\, 2020. \nIt’s easy to enroll \n1) Follow directions on Registration Form.  Please note: Payment can be made with credit card at our Online Store..\n2) Our PD facilitator will process your enrollment and send you a confirmation email.\nView / Print: Brochure / Registration Form. \nWhat is a blended workshop? \n\nLIVE workshop on December 12\, 2019\, with Alice Nine focuses on writing mentor essays and developing teaching points in response to STAAR-like prompts.\nDigital (online) Modules available 24/7 through March 15\, 2020 include–\n\nDeconstructing the Prompt–Understanding use of each part\nDeciphering the Rubrics– Understanding the language\nDeveloping the Essay– Close examination of components\nFrom Prompt to Essay–How-to outlined with teaching points\nFrom Prompt to Essay–A modeled lesson\nResources \n________ \n Enroll in the Online Modules only\nOur online modules are available for individual teacher enrollment as Digital PD.. Check our Calendar. \n 
URL:https://alicenine.net/event/writing-staar-essays-12/
CATEGORIES:Onsite / Online
ATTACH;FMTTYPE=image/jpeg:https://alicenine.net/wp-content/uploads/2017/12/pencils-2482741_1920-STAAR.jpg
END:VEVENT
END:VCALENDAR