BEGIN:VCALENDAR
VERSION:2.0
PRODID:-//AliceNine.net - ECPv6.15.11//NONSGML v1.0//EN
CALSCALE:GREGORIAN
METHOD:PUBLISH
X-ORIGINAL-URL:https://alicenine.net
X-WR-CALDESC:Events for AliceNine.net
REFRESH-INTERVAL;VALUE=DURATION:PT1H
X-Robots-Tag:noindex
X-PUBLISHED-TTL:PT1H
BEGIN:VTIMEZONE
TZID:America/Los_Angeles
BEGIN:DAYLIGHT
TZOFFSETFROM:-0800
TZOFFSETTO:-0700
TZNAME:PDT
DTSTART:20180311T100000
END:DAYLIGHT
BEGIN:STANDARD
TZOFFSETFROM:-0700
TZOFFSETTO:-0800
TZNAME:PST
DTSTART:20181104T090000
END:STANDARD
BEGIN:DAYLIGHT
TZOFFSETFROM:-0800
TZOFFSETTO:-0700
TZNAME:PDT
DTSTART:20190310T100000
END:DAYLIGHT
BEGIN:STANDARD
TZOFFSETFROM:-0700
TZOFFSETTO:-0800
TZNAME:PST
DTSTART:20191103T090000
END:STANDARD
BEGIN:DAYLIGHT
TZOFFSETFROM:-0800
TZOFFSETTO:-0700
TZNAME:PDT
DTSTART:20200308T100000
END:DAYLIGHT
BEGIN:STANDARD
TZOFFSETFROM:-0700
TZOFFSETTO:-0800
TZNAME:PST
DTSTART:20201101T090000
END:STANDARD
END:VTIMEZONE
BEGIN:VEVENT
DTSTART;TZID=America/Los_Angeles:20190816T080000
DTEND;TZID=America/Los_Angeles:20190816T150000
DTSTAMP:20260424T145411
CREATED:20190531T213159Z
LAST-MODIFIED:20190531T215448Z
UID:11460-1565942400-1565967600@alicenine.net
SUMMARY:Teach Cursive
DESCRIPTION:“Scrawls that cannot be read may be compared to talking that cannot be understood; and writing too difficult to decipher\, to stammering speech.” –Spencerian Penmanship\, 1874 \nRegistration is OPEN.\nEl Paso\, Texas\nDon’t miss it!\nThe new ELAR TEKS require it!\n \nWorkshop Summary\nExperience a day of learning and practice\n–Basic formation of cursive letters\n–The “cursive connection” and how to use it to teach cursive\n–Writing and ready cursive\n–A sequence for successful instruction\n–How to integrate instruction and practice with phonics and word work\n–How to teach and practice without workbooks or worksheets\n–Easy-to-use practice activities that support mastery\n–Tips and tricks to support good handwriting habits \n\nAlignment with new ELAR TEKS\nStrand 1 — The student is expected “to develop handwriting by forming all cursive letters using appropriate strokes when connecting letters” [110.4(2)(E)]; “to write complete words\, thoughts\, and answers legible in cursive leaving appropriate spaces between words” [110.5(2)(D)]; “to write legibly in cursive to complete assignments” [110.6(2)(C); 110.7(2)(C)].\nStrand 6 — “The student uses the writing process recursively to compose multiple texts that are legible and uses appropriate conventions.” \nWorkshop Agenda\nTeach Cursive is a one-day workshop day: August 16\, 2019.\n(Additional sessions of this workshop scheduled on August 30 and September 27)\nView/Print the workshop Agenda \nIt’s easy to enroll\n1)  Follow directions on the Registration Form. Please note: Payment can be made with credit card at our Online Store.\n2)  Our PD facilitator will complete your registration and send a confirmation email to you.\nView/Print: Brochure / Registration Form \nStudent samples – Grade 2
URL:https://alicenine.net/event/teach-cursive/
LOCATION:Radison Hotel El Paso Airport\, 1770 Airway Blvd\, El Paso\, TX\, 79925\, United States
ATTACH;FMTTYPE=image/jpeg:https://alicenine.net/wp-content/uploads/2019/05/pencil-writing-e1559337914269.jpg
GEO:31.7937734;-106.3945659
X-APPLE-STRUCTURED-LOCATION;VALUE=URI;X-ADDRESS=Radison Hotel El Paso Airport 1770 Airway Blvd El Paso TX 79925 United States;X-APPLE-RADIUS=500;X-TITLE=1770 Airway Blvd:geo:-106.3945659,31.7937734
END:VEVENT
BEGIN:VEVENT
DTSTART;TZID=America/Los_Angeles:20190830T080000
DTEND;TZID=America/Los_Angeles:20190830T150000
DTSTAMP:20260424T145411
CREATED:20190531T213730Z
LAST-MODIFIED:20190531T215559Z
UID:11473-1567152000-1567177200@alicenine.net
SUMMARY:Teach Cursive
DESCRIPTION:“Scrawls that cannot be read may be compared to talking that cannot be understood; and writing too difficult to decipher\, to stammering speech.” –Spencerian Penmanship\, 1874 \nRegistration is OPEN.\nEl Paso\, Texas\nDon’t miss it!\nThe new ELAR TEKS require it!\n \nWorkshop Summary\nExperience a day of learning and practice \nBasic formation of cursive letters\n–The “cursive connection” and how to use it to teach cursive\n–Writing and ready cursive\n–A sequence for successful instruction\n–How to integrate instruction and practice with phonics and word work\n–How to teach and practice without workbooks or worksheets\n–Easy-to-use practice activities that support mastery\n–Tips and tricks to support good handwriting habits \n\nAlignment with new ELAR TEKS\nStrand 1 — The student is expected “to develop handwriting by forming all cursive letters using appropriate strokes when connecting letters” [110.4(2)(E)]; “to write complete words\, thoughts\, and answers legible in cursive leaving appropriate spaces between words” [110.5(2)(D)]; “to write legibly in cursive to complete assignments” [110.6(2)(C); 110.7(2)(C)].\nStrand 6 — “The student uses the writing process recursively to compose multiple texts that are legible and uses appropriate conventions.” \nWorkshop Agenda\nTeach Cursive is a one-day workshop day: August 30\, 2019.\n(Additional sessions of this workshop scheduled on August 16 and September 27)\nView/Print the workshop Agenda \nIt’s easy to enroll\n1)  Follow directions on the Registration Form. Please note: Payment can be made with credit card at our Online Store.\n2)  Our PD facilitator will complete your registration and send a confirmation email to you.\nView/Print: Brochure / Registration Form \nStudent samples – Grade 2
URL:https://alicenine.net/event/teach-cursive-2/
LOCATION:Radison Hotel El Paso Airport\, 1770 Airway Blvd\, El Paso\, TX\, 79925\, United States
CATEGORIES:Onsite
ATTACH;FMTTYPE=image/jpeg:https://alicenine.net/wp-content/uploads/2019/05/pencil-writing-e1559337914269.jpg
GEO:31.7937734;-106.3945659
X-APPLE-STRUCTURED-LOCATION;VALUE=URI;X-ADDRESS=Radison Hotel El Paso Airport 1770 Airway Blvd El Paso TX 79925 United States;X-APPLE-RADIUS=500;X-TITLE=1770 Airway Blvd:geo:-106.3945659,31.7937734
END:VEVENT
END:VCALENDAR